BEGIN:VCALENDAR
VERSION:2.0
PRODID:-//Habitat for Humanity Hiawathaland - ECPv6.15.16//NONSGML v1.0//EN
CALSCALE:GREGORIAN
METHOD:PUBLISH
X-ORIGINAL-URL:https://hiawathalandhabitat.com
X-WR-CALDESC:Events for Habitat for Humanity Hiawathaland
REFRESH-INTERVAL;VALUE=DURATION:PT1H
X-Robots-Tag:noindex
X-PUBLISHED-TTL:PT1H
BEGIN:VTIMEZONE
TZID:America/Detroit
BEGIN:DAYLIGHT
TZOFFSETFROM:-0500
TZOFFSETTO:-0400
TZNAME:EDT
DTSTART:20230312T070000
END:DAYLIGHT
BEGIN:STANDARD
TZOFFSETFROM:-0400
TZOFFSETTO:-0500
TZNAME:EST
DTSTART:20231105T060000
END:STANDARD
BEGIN:DAYLIGHT
TZOFFSETFROM:-0500
TZOFFSETTO:-0400
TZNAME:EDT
DTSTART:20240310T070000
END:DAYLIGHT
BEGIN:STANDARD
TZOFFSETFROM:-0400
TZOFFSETTO:-0500
TZNAME:EST
DTSTART:20241103T060000
END:STANDARD
BEGIN:DAYLIGHT
TZOFFSETFROM:-0500
TZOFFSETTO:-0400
TZNAME:EDT
DTSTART:20250309T070000
END:DAYLIGHT
BEGIN:STANDARD
TZOFFSETFROM:-0400
TZOFFSETTO:-0500
TZNAME:EST
DTSTART:20251102T060000
END:STANDARD
BEGIN:DAYLIGHT
TZOFFSETFROM:-0500
TZOFFSETTO:-0400
TZNAME:EDT
DTSTART:20260308T070000
END:DAYLIGHT
BEGIN:STANDARD
TZOFFSETFROM:-0400
TZOFFSETTO:-0500
TZNAME:EST
DTSTART:20261101T060000
END:STANDARD
BEGIN:DAYLIGHT
TZOFFSETFROM:-0500
TZOFFSETTO:-0400
TZNAME:EDT
DTSTART:20270314T070000
END:DAYLIGHT
BEGIN:STANDARD
TZOFFSETFROM:-0400
TZOFFSETTO:-0500
TZNAME:EST
DTSTART:20271107T060000
END:STANDARD
END:VTIMEZONE
BEGIN:VEVENT
DTSTART;VALUE=DATE:20260421
DTEND;VALUE=DATE:20260422
DTSTAMP:20260424T113645
CREATED:20260215T045216Z
LAST-MODIFIED:20260215T045216Z
UID:1457-1776729600-1776815999@hiawathalandhabitat.com
SUMMARY:HfHH 31st Anniversary
DESCRIPTION:
URL:https://hiawathalandhabitat.com/event/hfhh-31st-anniversary/
END:VEVENT
BEGIN:VEVENT
DTSTART;TZID=America/Detroit:20260226T100000
DTEND;TZID=America/Detroit:20260226T140000
DTSTAMP:20260424T113645
CREATED:20260215T045137Z
LAST-MODIFIED:20260215T045137Z
UID:1455-1772100000-1772114400@hiawathalandhabitat.com
SUMMARY:Habitat & USDA RD Application Day
DESCRIPTION:
URL:https://hiawathalandhabitat.com/event/habitat-usda-rd-application-day/
END:VEVENT
BEGIN:VEVENT
DTSTART;VALUE=DATE:20251101
DTEND;VALUE=DATE:20251102
DTSTAMP:20260424T113645
CREATED:20250413T233632Z
LAST-MODIFIED:20250413T233632Z
UID:1399-1761955200-1762041599@hiawathalandhabitat.com
SUMMARY:3rd Annual HFHH Poker Run
DESCRIPTION:
URL:https://hiawathalandhabitat.com/event/3rd-annual-hfhh-poker-run/
END:VEVENT
BEGIN:VEVENT
DTSTART;VALUE=DATE:20251027
DTEND;VALUE=DATE:20251031
DTSTAMP:20260424T113645
CREATED:20250428T022707Z
LAST-MODIFIED:20250428T022707Z
UID:1414-1761523200-1761868799@hiawathalandhabitat.com
SUMMARY:AIM Conference - Mt. Pleasant\, MI
DESCRIPTION:
URL:https://hiawathalandhabitat.com/event/aim-conference-mt-pleasant-mi/
END:VEVENT
BEGIN:VEVENT
DTSTART;VALUE=DATE:20251025
DTEND;VALUE=DATE:20251026
DTSTAMP:20260424T113645
CREATED:20250428T022303Z
LAST-MODIFIED:20250428T022303Z
UID:1409-1761350400-1761436799@hiawathalandhabitat.com
SUMMARY:Fright Night Drive-In Concessions
DESCRIPTION:
URL:https://hiawathalandhabitat.com/event/fright-night-drive-in-concessions/
END:VEVENT
BEGIN:VEVENT
DTSTART;VALUE=DATE:20250907
DTEND;VALUE=DATE:20250921
DTSTAMP:20260424T113645
CREATED:20250716T044401Z
LAST-MODIFIED:20250716T044401Z
UID:1421-1757203200-1758412799@hiawathalandhabitat.com
SUMMARY:RV Care-A-Vanners (2 weeks)
DESCRIPTION:
URL:https://hiawathalandhabitat.com/event/rv-care-a-vanners-2-weeks-3/
END:VEVENT
BEGIN:VEVENT
DTSTART;TZID=America/Detroit:20250823T120000
DTEND;TZID=America/Detroit:20250823T160000
DTSTAMP:20260424T113645
CREATED:20250413T233054Z
LAST-MODIFIED:20250729T210940Z
UID:1375-1755950400-1755964800@hiawathalandhabitat.com
SUMMARY:Habitat for Humanity’s 30th Anniversary Open House
DESCRIPTION:Please join our celebration!  \n\nSilent Auctions\nFood & Drinks\nRaffles\nTours\nPresentation\nGiveaways
URL:https://hiawathalandhabitat.com/event/habitat-for-humanitys-30th-anniversary-open-house/
LOCATION:The Blanchard Center\, 401 Deer St.\, Manistique\, MI\, 49854\, United States
END:VEVENT
BEGIN:VEVENT
DTSTART;VALUE=DATE:20250810
DTEND;VALUE=DATE:20250825
DTSTAMP:20260424T113645
CREATED:20250413T233539Z
LAST-MODIFIED:20250413T233539Z
UID:1397-1754784000-1756079999@hiawathalandhabitat.com
SUMMARY:RV Care-A-Vanners (2 weeks)
DESCRIPTION:
URL:https://hiawathalandhabitat.com/event/rv-care-a-vanners-2-weeks-2/
END:VEVENT
BEGIN:VEVENT
DTSTART;VALUE=DATE:20250803
DTEND;VALUE=DATE:20250810
DTSTAMP:20260424T113645
CREATED:20250413T233519Z
LAST-MODIFIED:20250716T044320Z
UID:1395-1754179200-1754783999@hiawathalandhabitat.com
SUMMARY:Local Build Week (T) Graymont  (W) Community Build Day  (Th) Carmeuse  (F) Women Build Day
DESCRIPTION:Local Build Week (T) Graymont (W) Community Build Day (Th) Carmeuse (F) Women Build Day
URL:https://hiawathalandhabitat.com/event/local-build-week-m-t-w-th-f-wb-day/
END:VEVENT
BEGIN:VEVENT
DTSTART;VALUE=DATE:20250727
DTEND;VALUE=DATE:20250803
DTSTAMP:20260424T113645
CREATED:20250413T233446Z
LAST-MODIFIED:20250413T233446Z
UID:1393-1753574400-1754179199@hiawathalandhabitat.com
SUMMARY:Cedar Springs UMC - Cedar Springs\, MI
DESCRIPTION:
URL:https://hiawathalandhabitat.com/event/cedar-springs-umc-cedar-springs-mi-3/
END:VEVENT
BEGIN:VEVENT
DTSTART;VALUE=DATE:20250720
DTEND;VALUE=DATE:20250727
DTSTAMP:20260424T113645
CREATED:20250428T022230Z
LAST-MODIFIED:20250428T022230Z
UID:1407-1752969600-1753574399@hiawathalandhabitat.com
SUMMARY:Wacousta Community UMC - Eagle\, MI
DESCRIPTION:
URL:https://hiawathalandhabitat.com/event/wacousta-community-umc-eagle-mi/
END:VEVENT
BEGIN:VEVENT
DTSTART;VALUE=DATE:20250713
DTEND;VALUE=DATE:20250720
DTSTAMP:20260424T113645
CREATED:20250413T233423Z
LAST-MODIFIED:20250413T233423Z
UID:1391-1752364800-1752969599@hiawathalandhabitat.com
SUMMARY:Glenbrook High School Grp. 2 - Glenview\, IL
DESCRIPTION:
URL:https://hiawathalandhabitat.com/event/glenbrook-high-school-grp-2-glenview-il-2/
END:VEVENT
BEGIN:VEVENT
DTSTART;VALUE=DATE:20250706
DTEND;VALUE=DATE:20250714
DTSTAMP:20260424T113645
CREATED:20250413T233401Z
LAST-MODIFIED:20250413T233401Z
UID:1389-1751760000-1752451199@hiawathalandhabitat.com
SUMMARY:RV Care-A-Vanners (1 week)
DESCRIPTION:
URL:https://hiawathalandhabitat.com/event/rv-care-a-vanners-1-week-2/
END:VEVENT
BEGIN:VEVENT
DTSTART;VALUE=DATE:20250615
DTEND;VALUE=DATE:20250630
DTSTAMP:20260424T113645
CREATED:20250413T233332Z
LAST-MODIFIED:20250413T233332Z
UID:1387-1749945600-1751241599@hiawathalandhabitat.com
SUMMARY:RV Care-A-Vanners (2 weeks)
DESCRIPTION:
URL:https://hiawathalandhabitat.com/event/rv-care-a-vanners-2-weeks/
END:VEVENT
BEGIN:VEVENT
DTSTART;VALUE=DATE:20250608
DTEND;VALUE=DATE:20250615
DTSTAMP:20260424T113645
CREATED:20250413T233308Z
LAST-MODIFIED:20250413T233308Z
UID:1385-1749340800-1749945599@hiawathalandhabitat.com
SUMMARY:Glenbrook High School Grp. 1 - Glenview\, IL
DESCRIPTION:
URL:https://hiawathalandhabitat.com/event/glenbrook-high-school-grp-1-glenview-il-2/
END:VEVENT
BEGIN:VEVENT
DTSTART;VALUE=DATE:20250518
DTEND;VALUE=DATE:20250525
DTSTAMP:20260424T113645
CREATED:20250413T233229Z
LAST-MODIFIED:20250413T233229Z
UID:1383-1747526400-1748131199@hiawathalandhabitat.com
SUMMARY:RV Care-A-Vanners (1 week)
DESCRIPTION:
URL:https://hiawathalandhabitat.com/event/rv-care-a-vanners-1-week/
END:VEVENT
BEGIN:VEVENT
DTSTART;VALUE=DATE:20250517
DTEND;VALUE=DATE:20250518
DTSTAMP:20260424T113645
CREATED:20250413T233205Z
LAST-MODIFIED:20250428T022113Z
UID:1381-1747440000-1747526399@hiawathalandhabitat.com
SUMMARY:Community Walk for Home Repairs
DESCRIPTION:Download Community Walk Pledge Form
URL:https://hiawathalandhabitat.com/event/community-walk-for-home-repairs/
END:VEVENT
BEGIN:VEVENT
DTSTART;VALUE=DATE:20250511
DTEND;VALUE=DATE:20250518
DTSTAMP:20260424T113645
CREATED:20250413T233143Z
LAST-MODIFIED:20250413T233143Z
UID:1379-1746921600-1747526399@hiawathalandhabitat.com
SUMMARY:Presbyterian Church of Traverse City
DESCRIPTION:
URL:https://hiawathalandhabitat.com/event/presbyterian-church-of-traverse-city/
END:VEVENT
BEGIN:VEVENT
DTSTART;VALUE=DATE:20250421
DTEND;VALUE=DATE:20250422
DTSTAMP:20260424T113645
CREATED:20250428T022627Z
LAST-MODIFIED:20250428T022627Z
UID:1412-1745193600-1745279999@hiawathalandhabitat.com
SUMMARY:HfHH 30th Anniversary
DESCRIPTION:
URL:https://hiawathalandhabitat.com/event/hfhh-30th-anniversary/
END:VEVENT
BEGIN:VEVENT
DTSTART;VALUE=DATE:20250421
DTEND;VALUE=DATE:20250422
DTSTAMP:20260424T113645
CREATED:20250413T233110Z
LAST-MODIFIED:20250413T233110Z
UID:1377-1745193600-1745279999@hiawathalandhabitat.com
SUMMARY:Shed Raffle Drawing
DESCRIPTION:
URL:https://hiawathalandhabitat.com/event/shed-raffle-drawing/
END:VEVENT
BEGIN:VEVENT
DTSTART;TZID=America/Detroit:20250226T100000
DTEND;TZID=America/Detroit:20250226T140000
DTSTAMP:20260424T113645
CREATED:20250413T233005Z
LAST-MODIFIED:20250413T233005Z
UID:1373-1740564000-1740578400@hiawathalandhabitat.com
SUMMARY:USDA/Habitat for Humanity Application Day
DESCRIPTION:
URL:https://hiawathalandhabitat.com/event/usda-habitat-for-humanity-application-day/
END:VEVENT
BEGIN:VEVENT
DTSTART;VALUE=DATE:20250201
DTEND;VALUE=DATE:20250202
DTSTAMP:20260424T113645
CREATED:20250413T232931Z
LAST-MODIFIED:20250413T232931Z
UID:1371-1738368000-1738454399@hiawathalandhabitat.com
SUMMARY:Shed Raffle Fundraiser Kick-off
DESCRIPTION:
URL:https://hiawathalandhabitat.com/event/shed-raffle-fundraiser-kick-off/
END:VEVENT
BEGIN:VEVENT
DTSTART;VALUE=DATE:20250101
DTEND;VALUE=DATE:20260101
DTSTAMP:20260424T113645
CREATED:20250413T232750Z
LAST-MODIFIED:20250413T232750Z
UID:1369-1735689600-1767225599@hiawathalandhabitat.com
SUMMARY:$30/30 Fundraiser
DESCRIPTION:
URL:https://hiawathalandhabitat.com/event/30-30-fundraiser/
END:VEVENT
BEGIN:VEVENT
DTSTART;VALUE=DATE:20241102
DTEND;VALUE=DATE:20241103
DTSTAMP:20260424T113645
CREATED:20240618T005742Z
LAST-MODIFIED:20241002T020407Z
UID:1327-1730505600-1730591999@hiawathalandhabitat.com
SUMMARY:2nd Annual HFHH Poker Run
DESCRIPTION:
URL:https://hiawathalandhabitat.com/event/2nd-annual-hfhh-poker-run/
END:VEVENT
BEGIN:VEVENT
DTSTART;VALUE=DATE:20241027
DTEND;VALUE=DATE:20241101
DTSTAMP:20260424T113645
CREATED:20240618T005711Z
LAST-MODIFIED:20240929T022321Z
UID:1325-1729987200-1730419199@hiawathalandhabitat.com
SUMMARY:AIM Conference - Frankenmuth\, MI
DESCRIPTION:
URL:https://hiawathalandhabitat.com/event/aim-conference-frankenmuth-mi/
END:VEVENT
BEGIN:VEVENT
DTSTART;VALUE=DATE:20241025
DTEND;VALUE=DATE:20241027
DTSTAMP:20260424T113645
CREATED:20240618T005610Z
LAST-MODIFIED:20241002T021434Z
UID:1321-1729814400-1729987199@hiawathalandhabitat.com
SUMMARY:7th Annual Habitat Haunted House - The Blanchard Center - 7PM-9PM
DESCRIPTION:
URL:https://hiawathalandhabitat.com/event/7th-annual-habitat-haunted-house-the-blanchard-center-2/
END:VEVENT
BEGIN:VEVENT
DTSTART;VALUE=DATE:20241018
DTEND;VALUE=DATE:20241020
DTSTAMP:20260424T113645
CREATED:20240618T005551Z
LAST-MODIFIED:20241002T021450Z
UID:1319-1729209600-1729382399@hiawathalandhabitat.com
SUMMARY:7th Annual Habitat Haunted House - The Blanchard Center - 7PM-9PM
DESCRIPTION:
URL:https://hiawathalandhabitat.com/event/7th-annual-habitat-haunted-house-the-blanchard-center/
END:VEVENT
BEGIN:VEVENT
DTSTART;VALUE=DATE:20240928
DTEND;VALUE=DATE:20240929
DTSTAMP:20260424T113645
CREATED:20240618T005402Z
LAST-MODIFIED:20240929T023710Z
UID:1315-1727481600-1727567999@hiawathalandhabitat.com
SUMMARY:5th Annual Flannel Fest
DESCRIPTION:
URL:https://hiawathalandhabitat.com/event/5th-annual-flannel-fest/
END:VEVENT
BEGIN:VEVENT
DTSTART;VALUE=DATE:20240811
DTEND;VALUE=DATE:20240818
DTSTAMP:20260424T113645
CREATED:20240618T005241Z
LAST-MODIFIED:20240618T005241Z
UID:1311-1723334400-1723939199@hiawathalandhabitat.com
SUMMARY:Local Build Week 2
DESCRIPTION:
URL:https://hiawathalandhabitat.com/event/local-build-week-2/
END:VEVENT
BEGIN:VEVENT
DTSTART;VALUE=DATE:20240809
DTEND;VALUE=DATE:20240810
DTSTAMP:20260424T113645
CREATED:20240618T005258Z
LAST-MODIFIED:20240618T005258Z
UID:1313-1723161600-1723247999@hiawathalandhabitat.com
SUMMARY:Woman Build Day
DESCRIPTION:
URL:https://hiawathalandhabitat.com/event/woman-build-day/
END:VEVENT
END:VCALENDAR